BEGIN:VCALENDAR
VERSION:2.0
PRODID:-//jEvents 2.0 for Joomla//EN
CALSCALE:GREGORIAN
METHOD:PUBLISH
BEGIN:VEVENT
UID:7b60b5d1cbf6ffe6d7633228fc5afd33
CATEGORIES:Allmänt
SUMMARY:Lördagsöppet Nordenssons gårdsbutik
LOCATION:Kroksjö 32
DESCRIPTION;ENCODING=QUOTED-PRINTABLE:\n\n\n
CONTACT:Elin 070-650 6163
X-EXTRAINFO:Idag kommer det bland annat finnas denna goda paj med äppelpannacotta smaks
 att med timjan och kanel.\nButiken är öppen mellan kl 11-15. \nVälkomna!
DTSTAMP:20260421T214609Z
DTSTART:20191019T110000Z
DTEND:20191019T150000Z
SEQUENCE:0
TRANSP:OPAQUE
END:VEVENT
END:VCALENDAR