BEGIN:VCALENDAR
VERSION:2.0
PRODID:-//jEvents 2.0 for Joomla//EN
CALSCALE:GREGORIAN
METHOD:PUBLISH
BEGIN:VEVENT
UID:d99892ace8b7c9b78d542d2676f23064
CATEGORIES:Allmänt
SUMMARY:Höstmarknad i Överrödå
LOCATION:Överrödå Byastuga
DESCRIPTION;ENCODING=QUOTED-PRINTABLE:<p>Höstmarknad med lite föraning av Advent och Jul. Fina hantverk. Serverin
 g. Öppen bagarstuga, försäljning av mjiukkaka. Vid väg 363 40 km från Umeå,
  15 km från Vindeln.</p>
CONTACT:Anita Nilsson 070 - 28 93 193, Margareta Englund 070 - 28 74 598.
DTSTAMP:20260422T061012Z
DTSTART:20191110T110000Z
DTEND:20191110T150000Z
SEQUENCE:0
TRANSP:OPAQUE
END:VEVENT
END:VCALENDAR