BEGIN:VCALENDAR
VERSION:2.0
PRODID:-//jEvents 2.0 for Joomla//EN
CALSCALE:GREGORIAN
METHOD:PUBLISH
BEGIN:VEVENT
UID:6f4d2d3b09f4906445c575acfbb656e3
CATEGORIES:Allmänt
SUMMARY:Kulturcafé med Elin Johansson
DESCRIPTION;ENCODING=QUOTED-PRINTABLE:<p>Kulturcafé med Elin Johansson, författare till bl.a. "Veckan före barnbi
 draget" söndagen den 27 oktober i Tavelsjö bygdegård. Fikaförsäljning från 
 kl.14.30. Elin börjar berätta kl.15. Alla välkoma! Arrangör: Tavelsjö hemby
 gdsförening.</p>
DTSTAMP:20260421T233726Z
DTSTART:20191027T143000Z
SEQUENCE:0
TRANSP:OPAQUE
END:VEVENT
END:VCALENDAR