BEGIN:VCALENDAR
VERSION:2.0
PRODID:-//jEvents 2.0 for Joomla//EN
CALSCALE:GREGORIAN
METHOD:PUBLISH
BEGIN:VEVENT
UID:1d2ba75ee030efa8ba84a62b293fd8d7
CATEGORIES:Allmänt
SUMMARY:Äppelmustens Dag
LOCATION:Liden 42 Tavelsjö
DESCRIPTION;ENCODING=QUOTED-PRINTABLE:\n\n\n
CONTACT:Marie Baudin  070-355 93 25 
X-EXTRAINFO:Nu på fredag den 11 oktober är det Äppelmustens Dag! Det firas med att vi h
 åller kvällsöppet i Gårdsmusteriet. Det finns möjlighet att provsmaka äppel
 must av trädgårdsäpplen och köpa äppelmust på bag in box och flaska. Det fi
 nns även möjlighet att titta in i musteriet och jag berättar för den som är
  intresserad om vår lilla verksamhet.\n Välkommen hit /Marie
DTSTAMP:20260421T231606Z
DTSTART:20191011T160000Z
DTEND:20191011T190000Z
SEQUENCE:0
TRANSP:OPAQUE
END:VEVENT
END:VCALENDAR