BEGIN:VCALENDAR
VERSION:2.0
PRODID:-//jEvents 2.0 for Joomla//EN
CALSCALE:GREGORIAN
METHOD:PUBLISH
BEGIN:VEVENT
UID:b0efea7936c446f8af8aacc9fc5b75e7
CATEGORIES:Allmänt
SUMMARY:Däckbytardag
LOCATION:Etting Maskin & Service Långviken
DESCRIPTION;ENCODING=QUOTED-PRINTABLE:\n\n\n
CONTACT:090-601 55   www.etting.se
X-EXTRAINFO:Fika!
DTSTAMP:20260421T231431Z
DTSTART:20191019T090000Z
DTEND:20191019T140000Z
SEQUENCE:0
TRANSP:OPAQUE
END:VEVENT
END:VCALENDAR