BEGIN:VCALENDAR
VERSION:2.0
PRODID:-//jEvents 2.0 for Joomla//EN
CALSCALE:GREGORIAN
METHOD:PUBLISH
BEGIN:VEVENT
UID:335b73b3586ad1cb275bb6ed336caff1
CATEGORIES:Allmänt
SUMMARY:Barn & Ungdomsloppis
LOCATION:Kroksjö Byastuga
DESCRIPTION;ENCODING=QUOTED-PRINTABLE:\n\n\n
CONTACT:Gunilla Åström, Kroksjö byalag
X-EXTRAINFO:Fika försäljning!\nVälkomna
DTSTAMP:20260421T231558Z
DTSTART:20191012T110000Z
DTEND:20191012T150000Z
SEQUENCE:0
TRANSP:OPAQUE
END:VEVENT
END:VCALENDAR