BEGIN:VCALENDAR
VERSION:2.0
PRODID:-//jEvents 2.0 for Joomla//EN
CALSCALE:GREGORIAN
METHOD:PUBLISH
BEGIN:VEVENT
UID:396cff2ad0c52ea705cc57dd094c0706
CATEGORIES:Allmänt
SUMMARY:Kan aktivt skogsbruk rädda klimatet?
LOCATION:Tavelsjö skolas matsal
DESCRIPTION;ENCODING=QUOTED-PRINTABLE:\n\n\n\n\nDet finns två olika perspektiv på hur skogen ska göra mest nytta 
 för klimatet. Det ena går ut på att låta skogen stå, medan det andra fokuse
 rar på att bruka skogen mer aktivt.\n\n\nTomas Lundmark, professor i skogsb
 ruk, SLU, föreläser i ämnet.\n\n\nDärefter frågor och samtal. Samtalsledare
  Torbjörn Wennebro.\n\n\nFika!\n\n\nAlla är välkomna!\n\n\nTavelsjöcentern 
 och Studieförbundet Vuxenskolan\n
CONTACT:Monika Sandström 0705590317
DTSTAMP:20260421T233727Z
DTSTART:20191015T190000Z
DTEND:20191015T210000Z
SEQUENCE:0
TRANSP:OPAQUE
END:VEVENT
END:VCALENDAR