BEGIN:VCALENDAR
VERSION:2.0
PRODID:-//jEvents 2.0 for Joomla//EN
CALSCALE:GREGORIAN
METHOD:PUBLISH
BEGIN:VEVENT
UID:2b38d2d233c8a417b2a82d374c2ef2be
CATEGORIES:Allmänt
SUMMARY:Syjunta & Hantverksgille
LOCATION:Överrödå Byastuga
DESCRIPTION;ENCODING=QUOTED-PRINTABLE:\n\nTa med det du vill pyssla med hemifrån, kom och umgås en stund! Vi pyss
 lar och hantverkar och gör avbrott för fika mitt i. Alla välkomna\n
CONTACT:Åsa 070 - 699 13 75 eller Anita 070 - 289 31 93
DTSTAMP:20260422T045332Z
DTSTART:20190921T123000Z
DTEND:20190921T153000Z
SEQUENCE:0
TRANSP:OPAQUE
END:VEVENT
END:VCALENDAR