BEGIN:VCALENDAR
VERSION:2.0
PRODID:-//jEvents 2.0 for Joomla//EN
CALSCALE:GREGORIAN
METHOD:PUBLISH
BEGIN:VEVENT
UID:de4ccee8fef8a77432d16ea7b9311af7
CATEGORIES:Allmänt
SUMMARY:Halloweenpub med mat och musik
LOCATION:Strandvägen 25 i Tavelsjö
DESCRIPTION;ENCODING=QUOTED-PRINTABLE:\n\n\n
CONTACT:070-243 29 40  http://wardshusettavelsjo.se
X-EXTRAINFO:Årets sista pubkväll sedan tar julborden vid. \nMat serveras från 18.30, mu
 sik från 20.00 \nMer detaljer längre fram men ”save the date”\nPris för bäs
 ta utklädnad i vanlig ordning 
DTSTAMP:20260421T231707Z
DTSTART:20191025T180000Z
DTEND:20191025T220000Z
SEQUENCE:0
TRANSP:OPAQUE
END:VEVENT
END:VCALENDAR