BEGIN:VCALENDAR
VERSION:2.0
PRODID:-//jEvents 2.0 for Joomla//EN
CALSCALE:GREGORIAN
METHOD:PUBLISH
BEGIN:VEVENT
UID:71bfa4996cce3f6b47eda60f39aed789
CATEGORIES:Allmänt
SUMMARY:Byafrukost o guidning i Larssons lagård
LOCATION:Överrödå Byastuga
DESCRIPTION;ENCODING=QUOTED-PRINTABLE:<p>Härlig frukostbuffé i Byastugan från kl 9, därefter besök i familjen Lar
 ssons lagård, där Tore guidar oss runt. Ingen anmälan - det är bara att kom
 ma. 60 kr/vux, barn gratis. Arr. Överrödå Bygdeförening</p>
CONTACT:Anita Nilsson 070-28 93 193
DTSTAMP:20260421T220050Z
DTSTART:20191005T090000Z
DTEND:20191005T111500Z
SEQUENCE:0
TRANSP:OPAQUE
END:VEVENT
END:VCALENDAR