BEGIN:VCALENDAR
VERSION:2.0
PRODID:-//jEvents 2.0 for Joomla//EN
CALSCALE:GREGORIAN
METHOD:PUBLISH
BEGIN:VEVENT
UID:f09357f6785c8115e60fdc658ab82d08
CATEGORIES:Allmänt
SUMMARY:Ät söndagspalt !
LOCATION:Karlssons Ladugård, Mickelträsk 110
DESCRIPTION;ENCODING=QUOTED-PRINTABLE:\n\n\n
CONTACT:Anki 070-233 88 14 
X-EXTRAINFO:Hemlagad palt enligt gammalt recept.vuxna 70 kr inkl. Kaffe & kakabarn 2-12
  år 30 krKontant eller Swisch\nTa med grannar o vänner på en riktig Paltfes
 t!\nVälkomna!
DTSTAMP:20260421T231707Z
DTSTART:20191006T110000Z
DTEND:20191006T180000Z
SEQUENCE:0
TRANSP:OPAQUE
END:VEVENT
END:VCALENDAR