BEGIN:VCALENDAR
VERSION:2.0
PRODID:-//jEvents 2.0 for Joomla//EN
CALSCALE:GREGORIAN
METHOD:PUBLISH
BEGIN:VEVENT
UID:53796c76c29d6024ae67a83c957e03fb
CATEGORIES:Allmänt
SUMMARY:Torsdagscaffé
LOCATION:Kroksjö Byastuga
DESCRIPTION;ENCODING=QUOTED-PRINTABLE:\n\n\n
X-EXTRAINFO:Bokbussen kommer 12/9, 17/10 och 28/11
DTSTAMP:20260422T060901Z
DTSTART:20191107T133000Z
DTEND:20191107T153000Z
SEQUENCE:0
TRANSP:OPAQUE
END:VEVENT
END:VCALENDAR