BEGIN:VCALENDAR
VERSION:2.0
PRODID:-//jEvents 2.0 for Joomla//EN
CALSCALE:GREGORIAN
METHOD:PUBLISH
BEGIN:VEVENT
UID:4b38f021dc8a02bf517dff3fb84d04a9
CATEGORIES:Allmänt
SUMMARY:Torsdagscaffé
LOCATION:Kroksjö Byastuga
DESCRIPTION;ENCODING=QUOTED-PRINTABLE:\n\n\n
X-EXTRAINFO:Bokbussen kommer 12/9, 17/10 och 28/11
DTSTAMP:20260421T231754Z
DTSTART:20191017T133000Z
DTEND:20191017T153000Z
SEQUENCE:0
TRANSP:OPAQUE
END:VEVENT
END:VCALENDAR