BEGIN:VCALENDAR
VERSION:2.0
PRODID:-//jEvents 2.0 for Joomla//EN
CALSCALE:GREGORIAN
METHOD:PUBLISH
BEGIN:VEVENT
UID:e84a8938b2c6f4dae7265edc0d3a3d97
CATEGORIES:Allmänt
SUMMARY:Torsdagscafé
LOCATION:Kroksjö Byastuga
DESCRIPTION;ENCODING=QUOTED-PRINTABLE:\n\n\n
X-EXTRAINFO:Bokbussen kommer 12/9, 17/10 och 28/11
DTSTAMP:20260421T231538Z
DTSTART:20191003T133000Z
DTEND:20191003T153000Z
SEQUENCE:0
TRANSP:OPAQUE
END:VEVENT
END:VCALENDAR