BEGIN:VCALENDAR
VERSION:2.0
PRODID:-//jEvents 2.0 for Joomla//EN
CALSCALE:GREGORIAN
METHOD:PUBLISH
BEGIN:VEVENT
UID:3cb730e013e730ba14da37db86786aa3
CATEGORIES:Allmänt
SUMMARY:Wärdhuset stängt i helgen
LOCATION:Strandvägen 25 Tavelsjö
DESCRIPTION;ENCODING=QUOTED-PRINTABLE:\n\nPersonalbrist ?\n
CONTACT:Den här e-postadressen skyddas mot spambots. Du måste tillåta JavaScript för att se den.
				document.getElementById('cloak6327b69112a671bb618bca2f9be85bdc').innerHTML = '';
				var prefix = '&#109;a' + 'i&#108;' + '&#116;o';
				var path = 'hr' + 'ef' + '=';
				var addy6327b69112a671bb618bca2f9be85bdc = 'w&#97;rdsh&#117;s&#101;t' + '&#64;';
				addy6327b69112a671bb618bca2f9be85bdc = addy6327b69112a671bb618bca2f9be85bdc + 't&#97;v&#101;lsj&#111;' + '&#46;' + 's&#101;';
				var addy_text6327b69112a671bb618bca2f9be85bdc = 'w&#97;rdsh&#117;s&#101;t' + '&#64;' + 't&#97;v&#101;lsj&#111;' + '&#46;' + 's&#101;';document.getElementById('cloak6327b69112a671bb618bca2f9be85bdc').innerHTML += ''+addy_text6327b69112a671bb618bca2f9be85bdc+'';
		 eller telefon 070-243 29 40
X-EXTRAINFO:Plötsligt händer det, tårna kom i kläm och Mia är bortrest. Så vi måste tyv
 ärr ha stängt hela helgen. \nVarmt välkomna nästa helg !\n
DTSTAMP:20260422T073417Z
DTSTART:20190831T080000Z
DTEND:20190831T170000Z
SEQUENCE:0
TRANSP:OPAQUE
END:VEVENT
END:VCALENDAR