BEGIN:VCALENDAR
VERSION:2.0
PRODID:-//jEvents 2.0 for Joomla//EN
CALSCALE:GREGORIAN
METHOD:PUBLISH
BEGIN:VEVENT
UID:14016da3acf91a9ec66158297d3b7116
CATEGORIES:Allmänt
SUMMARY:Blåeld Höstöppet
LOCATION:Strandvägen 25 Tavelsjö
DESCRIPTION;ENCODING=QUOTED-PRINTABLE:\n\n\n
CONTACT:Katarina 070-308 3896
X-EXTRAINFO:Sista dagarna i Augusti och vi håller öppet 12-16\n 1:a september höstar vi
  in och håller öppet varje helg 12-15 så långt det går för kylan.
DTSTAMP:20260422T073351Z
DTSTART:20190831T120000Z
DTEND:20190831T160000Z
SEQUENCE:0
TRANSP:OPAQUE
END:VEVENT
END:VCALENDAR