BEGIN:VCALENDAR
VERSION:2.0
PRODID:-//jEvents 2.0 for Joomla//EN
CALSCALE:GREGORIAN
METHOD:PUBLISH
BEGIN:VEVENT
UID:daf4e2a9c9c89076bb754d53ad0782b6
CATEGORIES:Allmänt
SUMMARY:Sommarkafé i rundlogen Svedjan
LOCATION:Svedjan, Tavelsjö
DESCRIPTION;ENCODING=QUOTED-PRINTABLE:<p>Kafé med våfflor och hembakt bröd.</p><p>Varje dag kl 13 blir det sagost
 und för barnen.</p><p>Välkomna!</p><p>Elin och Annika</p>
CONTACT:Elin Johansson 070-3956268
DTSTAMP:20260422T103544Z
DTSTART:20190720T120000Z
DTEND:20190720T160000Z
SEQUENCE:0
TRANSP:OPAQUE
END:VEVENT
END:VCALENDAR