BEGIN:VCALENDAR
VERSION:2.0
PRODID:-//jEvents 2.0 for Joomla//EN
CALSCALE:GREGORIAN
METHOD:PUBLISH
BEGIN:VEVENT
UID:b069ad4f249deba8eee6036f9aee5e26
CATEGORIES:Allmänt
SUMMARY:Sommarkafé i rundlogen i Svedjan
LOCATION:Svedjan, Tavelsjö
DESCRIPTION;ENCODING=QUOTED-PRINTABLE:\n\nKafé med våfflor och hembakt bröd.\n\n\nVarje dag kl 13 blir det sagost
 und för barnen.\n\n\nVälkomna!\n\n\nElin och Annika\n
CONTACT:Elin Johansson 070-3956268
DTSTAMP:20260422T090618Z
DTSTART:20190719T120000Z
DTEND:20190719T160000Z
SEQUENCE:0
RRULE:FREQ=DAILY;UNTIL=20190722T000000Z;INTERVAL=3
TRANSP:OPAQUE
END:VEVENT
BEGIN:VEVENT
UID:b069ad4f249deba8eee6036f9aee5e26
CATEGORIES:Allmänt
SUMMARY:Sommarkafé i rundlogen Svedjan
LOCATION:Svedjan, Tavelsjö
DESCRIPTION;ENCODING=QUOTED-PRINTABLE:\n\nKaf&eacute; med v&aring;fflor och hembakt br&ouml;d.\n\n\nVarje dag kl 
 13 blir det sagostund f&ouml;r barnen.\n\n\nV&auml;lkomna!\n\n\nElin och An
 nika\n
CONTACT:Elin Johansson 070-3956268

DTSTAMP:20260422T090618Z
DTSTART:20190719T120000Z
DTEND:20190719T160000Z
RECURRENCE-ID:20190719T120000Z
SEQUENCE:0
TRANSP:OPAQUE
END:VEVENT
END:VCALENDAR