BEGIN:VCALENDAR
VERSION:2.0
PRODID:-//jEvents 2.0 for Joomla//EN
CALSCALE:GREGORIAN
METHOD:PUBLISH
BEGIN:VEVENT
UID:21b5e23a4e2ade687a90f0dd0198d0fc
CATEGORIES:Allmänt
SUMMARY:Kroksjö byalag firar 40 år
LOCATION:Kroksjö Byastuga
DESCRIPTION;ENCODING=QUOTED-PRINTABLE:\n\n\n
X-EXTRAINFO:\nKroksjö byalag firar 40 år\nVälkommen till byadag/familjedag/återvändarda
 g 17 augusti kl 11-16.\nBoka in dagen nu - mer information kommer senare.\n
 Välkommen!\nStyrelsen\n
DTSTAMP:20260422T074119Z
DTSTART:20190817T110000Z
DTEND:20190817T160000Z
SEQUENCE:0
TRANSP:OPAQUE
END:VEVENT
END:VCALENDAR