BEGIN:VCALENDAR
VERSION:2.0
PRODID:-//jEvents 2.0 for Joomla//EN
CALSCALE:GREGORIAN
METHOD:PUBLISH
BEGIN:VEVENT
UID:7eaee63c86aec9e91fcfff3d1e6033f1
CATEGORIES:Allmänt
SUMMARY:Sommarkafé med Hilda
LOCATION:Vindel Ånäsets byastuga
DESCRIPTION;ENCODING=QUOTED-PRINTABLE:\n\n\n
X-EXTRAINFO:I morgon tisdag 16 juli kl 18.00\n är det sommarkafé i byastugan.\n Bloggko
 ssan Hilda kommer.\nEmma Ewadotter och Ludwig Franzen ställer ut sina konst
 verk.\n Naturligtvis vårt fantastiska fika också\n Varmt välkomna !
DTSTAMP:20260422T103149Z
DTSTART:20190716T180000Z
DTEND:20190716T210000Z
SEQUENCE:0
TRANSP:OPAQUE
END:VEVENT
END:VCALENDAR