BEGIN:VCALENDAR
VERSION:2.0
PRODID:-//jEvents 2.0 for Joomla//EN
CALSCALE:GREGORIAN
METHOD:PUBLISH
BEGIN:VEVENT
UID:604461f6a6e85f3d1a2515944cf74980
CATEGORIES:Allmänt
SUMMARY:Middag & underhållning Henrik Baer
LOCATION:Wärdhuset, Tavelsjö Strandvägen 25
DESCRIPTION;ENCODING=QUOTED-PRINTABLE:\n\n\n
CONTACT:070-243 29 40  http://wardshusettavelsjo.se
X-EXTRAINFO:Välkommen att äta middag hos oss på Wärdshuset.\nHenrik Baer bjuder oss på 
 örongodis denna kväll. \nKom gärna tidigare så kan ni äta  och umgås innan 
 musiken börjar. \n
DTSTAMP:20260422T125629Z
DTSTART:20190724T170000Z
DTEND:20190724T210000Z
SEQUENCE:0
TRANSP:OPAQUE
END:VEVENT
END:VCALENDAR