BEGIN:VCALENDAR
VERSION:2.0
PRODID:-//jEvents 2.0 for Joomla//EN
CALSCALE:GREGORIAN
METHOD:PUBLISH
BEGIN:VEVENT
UID:a396d748071e98a4fd0b79d5f93da140
CATEGORIES:Allmänt
SUMMARY:Kvällsöppet med musik
LOCATION:Wärdhuset, Tavelsjö Strandvägen 25
DESCRIPTION;ENCODING=QUOTED-PRINTABLE:\n\n\n
CONTACT:070-243 29 40  http://wardshusettavelsjo.se
X-EXTRAINFO:Adrian och Frida-Emelia var hos oss ifjol och vi är så glada att de vill ko
 mma tillbaka för att spela och sjunga för oss i år igen. \nKom gärna tidiga
 re om du vill äta något. \n
DTSTAMP:20260422T090551Z
DTSTART:20190717T170000Z
DTEND:20190717T210000Z
SEQUENCE:0
TRANSP:OPAQUE
END:VEVENT
END:VCALENDAR