BEGIN:VCALENDAR
VERSION:2.0
PRODID:-//jEvents 2.0 for Joomla//EN
CALSCALE:GREGORIAN
METHOD:PUBLISH
BEGIN:VEVENT
UID:a447327fbf410209c1e8af6bd4f0f46d
CATEGORIES:Allmänt
SUMMARY:Räkfrossa på Sundlingska
LOCATION:Sundlingska gården, Tavelsjö
DESCRIPTION;ENCODING=QUOTED-PRINTABLE:\n\n\n
CONTACT:Anita Frisell  0709-314318
X-EXTRAINFO:Boka bord
DTSTAMP:20260422T103155Z
DTSTART:20190726T180000Z
DTEND:20190726T210000Z
SEQUENCE:0
TRANSP:OPAQUE
END:VEVENT
END:VCALENDAR