BEGIN:VCALENDAR
VERSION:2.0
PRODID:-//jEvents 2.0 for Joomla//EN
CALSCALE:GREGORIAN
METHOD:PUBLISH
BEGIN:VEVENT
UID:78d0c721779047bee9ed35a571f95ece
CATEGORIES:Allmänt
SUMMARY:Räkfrossa på Sundlingska
LOCATION:Sundlingska gården, Tavelsjö
DESCRIPTION;ENCODING=QUOTED-PRINTABLE:\n\n\n
CONTACT:Anita Frisell  0709-314318
X-EXTRAINFO:Boka bord
DTSTAMP:20260422T090733Z
DTSTART:20190719T180000Z
DTEND:20190719T210000Z
SEQUENCE:0
TRANSP:OPAQUE
END:VEVENT
END:VCALENDAR