BEGIN:VCALENDAR
VERSION:2.0
PRODID:-//jEvents 2.0 for Joomla//EN
CALSCALE:GREGORIAN
METHOD:PUBLISH
BEGIN:VEVENT
UID:0ef03ed146e7ef2c7b394632beb2ce44
CATEGORIES:Allmänt
SUMMARY:Kalle Moreus på Storudden
LOCATION:Storudden 10, Gravmark
DESCRIPTION;ENCODING=QUOTED-PRINTABLE:\n\n\n
CONTACT:Åke Swan 070-3246740.
X-EXTRAINFO:Nu är det återigen dags för en härlig dag och kväll på Storudden!\nFredag d
 en 16 augusti äntrar ingen mindre än den folkkäre Kalle Moraeus utomhusscen
 en. Med sig har han sitt svängiga band Hej Kalle och tillsammans bjuder de 
 på en härlig kväll med den ljuvaste musik.\nScenprogrammet börjar kl 19.00 
 men redan kl 13.00 öppnar området med fika, mackor, korv, hamburgare m m ti
 ll försäljning. \nAntalet sittplatser är begränsade så ta gärna med egen st
 ol/filt.\nParkering finns i anslutning till festplatsen.\nVid bokning av gr
 upper på 20 personer och fler – kontakta Anna på Den här e-postadressen sky
 ddas mot spambots. Du måste tillåta JavaScript för att se den.
				document
 .getElementById('cloakbff6d2979e5b83c0c42304c46156bf38').innerHTML = '';
		
 		var prefix = '&#109;a' + 'i&#108;' + '&#116;o';
				var path = 'hr' + 'ef
 ' + '=';
				var addybff6d2979e5b83c0c42304c46156bf38 = '&#97;nn&#97;' + '&
 #64;';
				addybff6d2979e5b83c0c42304c46156bf38 = addybff6d2979e5b83c0c4230
 4c46156bf38 + 't&#105;lj&#97;n' + '&#46;' + 's&#101;';
				var addy_textbff
 6d2979e5b83c0c42304c46156bf38 = '&#97;nn&#97;' + '&#64;' + 't&#105;lj&#97;n
 ' + '&#46;' + 's&#101;';document.getElementById('cloakbff6d2979e5b83c0c4230
 4c46156bf38').innerHTML += ''+addy_textbff6d2979e5b83c0c42304c46156bf38+'';
 
		, 070-6955028\nVäl mött i grönskan!
DTSTAMP:20260422T073549Z
DTSTART:20190816T130000Z
DTEND:20190816T210000Z
SEQUENCE:0
TRANSP:OPAQUE
END:VEVENT
END:VCALENDAR