BEGIN:VCALENDAR
VERSION:2.0
PRODID:-//jEvents 2.0 for Joomla//EN
CALSCALE:GREGORIAN
METHOD:PUBLISH
BEGIN:VEVENT
UID:578433eea7416c79dff3f0a9e6164e79
CATEGORIES:Allmänt
SUMMARY:Dragspelshelg
LOCATION:Storudden 10, Gravmark
DESCRIPTION;ENCODING=QUOTED-PRINTABLE:\n\n\n
CONTACT:Åke Swan 070-3246740.
X-EXTRAINFO:Dragspelshelg fredag den 26 juli - lördag den 27 juli klockan 13.00 - 21.00
  båda dagarna. Dagspelare och spelmän går in gratis, vi som lyssnar 100:- i
  entré. Underhållning av bla Eskil Columbus, Mickes Combo, Åke Swahn mm. \n
DTSTAMP:20260422T085234Z
DTSTART:20190727T130000Z
DTEND:20190727T210000Z
SEQUENCE:0
TRANSP:OPAQUE
END:VEVENT
END:VCALENDAR