BEGIN:VCALENDAR
VERSION:2.0
PRODID:-//jEvents 2.0 for Joomla//EN
CALSCALE:GREGORIAN
METHOD:PUBLISH
BEGIN:VEVENT
UID:c334f794cb1956c578bc4a4c56a23464
CATEGORIES:Allmänt
SUMMARY:Ronny Eriksson, Storudden
LOCATION:Storudden 10, Gravmark
DESCRIPTION;ENCODING=QUOTED-PRINTABLE:\n\n\n
CONTACT:Åke på 070-3246740.
X-EXTRAINFO:Ronny Eriksson och Ramblin Minds kommer och gästar oss på café Storudden. \
 n\nLördagen den 20 juli \nKlockan: 19.00 - 21.00, \nEntré: 250:-.\nDet serv
 eras hembakat fika och mat. \nVarmt välkommen! ?\n
DTSTAMP:20260422T103201Z
DTSTART:20190720T190000Z
DTEND:20190720T210000Z
SEQUENCE:0
TRANSP:OPAQUE
END:VEVENT
END:VCALENDAR