BEGIN:VCALENDAR
VERSION:2.0
PRODID:-//jEvents 2.0 for Joomla//EN
CALSCALE:GREGORIAN
METHOD:PUBLISH
BEGIN:VEVENT
UID:e31571c60c78f1d80be1d4907de278c9
CATEGORIES:Allmänt
SUMMARY:Öppen Trädgård i Östansjö
LOCATION:Östansjö, mellan Långviksvallen och Kassjö
DESCRIPTION;ENCODING=QUOTED-PRINTABLE:\n\n\n
CONTACT:Ulla Forsling  070-578 40 84
X-EXTRAINFO:Hjärtligt välkommen till Öppen Trädgård i Östansjö!\nBli inspirerad och få 
 nya ideer till din trädgård.\nMöjlighet finns att köpa perenna växter och f
 ika.\nPlats: Östansjö 10 (mellan Långviksvallen och Kassjö)\nVälkomna!\nMvh
  Ulla Forsling med familj\n
DTSTAMP:20260422T090742Z
DTSTART:20190721T120000Z
DTEND:20190721T180000Z
SEQUENCE:0
TRANSP:OPAQUE
END:VEVENT
END:VCALENDAR