BEGIN:VCALENDAR
VERSION:2.0
PRODID:-//jEvents 2.0 for Joomla//EN
CALSCALE:GREGORIAN
METHOD:PUBLISH
BEGIN:VEVENT
UID:6771e57a4c1c814a82782df3a6b55602
CATEGORIES:Allmänt
SUMMARY: Wärdshuset luncherbjudande
LOCATION:Wärdhuset, Tavelsjö Strandvägen 25
DESCRIPTION;ENCODING=QUOTED-PRINTABLE:\n\n\n
CONTACT:070-243 29 40  http://wardshusettavelsjo.se
X-EXTRAINFO:Den här veckan serverar vi tacotallrik!\nDessutom finns räkmackor och fikab
 röd.\nÄr det soligt och fint går det bra att sitta ute i trädgården med uts
 ikt över Tavelsjön.\nVarmt välkomna!
DTSTAMP:20260422T090655Z
DTSTART:20190709T120000Z
DTEND:20190709T160000Z
SEQUENCE:0
TRANSP:OPAQUE
END:VEVENT
END:VCALENDAR