BEGIN:VCALENDAR
VERSION:2.0
PRODID:-//jEvents 2.0 for Joomla//EN
CALSCALE:GREGORIAN
METHOD:PUBLISH
BEGIN:VEVENT
UID:ca26ab9dd0f5ad7afe0dd255c3d9dc7b
CATEGORIES:Allmänt
SUMMARY:Lunch på Wärdshuset
LOCATION:Wärdhuset, Tavelsjö Strandvägen 25
DESCRIPTION;ENCODING=QUOTED-PRINTABLE:\n\n\n
CONTACT:070-243 29 40  http://wardshusettavelsjo.se
X-EXTRAINFO:Den här veckan serverar vi tacotallrik!\nDessutom finns räkmackor och fikab
 röd.\nÄr det soligt och fint går det bra att sitta ute i trädgården med uts
 ikt över Tavelsjön.\nVarmt välkomna!
DTSTAMP:20260422T103201Z
DTSTART:20190708T120000Z
DTEND:20190708T160000Z
SEQUENCE:0
TRANSP:OPAQUE
END:VEVENT
END:VCALENDAR