BEGIN:VCALENDAR
VERSION:2.0
PRODID:-//jEvents 2.0 for Joomla//EN
CALSCALE:GREGORIAN
METHOD:PUBLISH
BEGIN:VEVENT
UID:841db28b790bd6d873517f35fb453726
CATEGORIES:Allmänt
SUMMARY:Kvällsöppet på Wärdshuset Bed Room Band underhåller
LOCATION:Wärdhuset, Tavelsjö Strandvägen 25
DESCRIPTION;ENCODING=QUOTED-PRINTABLE:\n\n\n
CONTACT:070-243 29 40  http://wardshusettavelsjo.se
X-EXTRAINFO:I kväll underhåller lokala bandet Bed Room Band med sång och musik. \nVi ha
 r öppet hela dagen så kom och ät middag eller ta en räkmacka och någon god 
 dryck. Bed Room Band med Marlene, Dodd och Berth spelar upp kring 19.00.\nV
 arm Välkomna\n
DTSTAMP:20260422T090703Z
DTSTART:20190710T170000Z
DTEND:20190710T220000Z
SEQUENCE:0
TRANSP:OPAQUE
END:VEVENT
END:VCALENDAR