BEGIN:VCALENDAR
VERSION:2.0
PRODID:-//jEvents 2.0 for Joomla//EN
CALSCALE:GREGORIAN
METHOD:PUBLISH
BEGIN:VEVENT
UID:5c7bd89a9319a5783235c60df412891a
CATEGORIES:Allmänt
SUMMARY:Helgnytt hos Blåeld
LOCATION:Strandvägen 25 i Tavelsjö
DESCRIPTION;ENCODING=QUOTED-PRINTABLE:\n\n\n
CONTACT:Katarina 070-308 3896 
X-EXTRAINFO:Många "nyheter" hos Blåeld.\nVälkomna.
DTSTAMP:20260422T085227Z
DTSTART:20190706T120000Z
DTEND:20190706T160000Z
SEQUENCE:0
TRANSP:OPAQUE
END:VEVENT
END:VCALENDAR