BEGIN:VCALENDAR
VERSION:2.0
PRODID:-//jEvents 2.0 for Joomla//EN
CALSCALE:GREGORIAN
METHOD:PUBLISH
BEGIN:VEVENT
UID:6f46faf1b80d13354a6dd6e6f94780e5
CATEGORIES:Allmänt
SUMMARY:Sommarandakt i Kyrkan
LOCATION:Tavelsjö kyrka
DESCRIPTION;ENCODING=QUOTED-PRINTABLE:<p>Sommarandakt i kyrkan med Kerstin Eriksson samt Laila & Lars Windelius.<
 /p><p>Sång, musik, reflektion och bön.</p><p>Fika.</p><p>Välkomna!</p>
CONTACT:Monika Sandström 0705590317
X-EXTRAINFO:Visning av kyrkan, se annons!
DTSTAMP:20260422T091135Z
DTSTART:20190717T130000Z
SEQUENCE:0
TRANSP:OPAQUE
END:VEVENT
END:VCALENDAR