BEGIN:VCALENDAR
VERSION:2.0
PRODID:-//jEvents 2.0 for Joomla//EN
CALSCALE:GREGORIAN
METHOD:PUBLISH
BEGIN:VEVENT
UID:ea2a7238c66c41dcf2c15e182e73e4e5
CATEGORIES:Allmänt
SUMMARY:Sommarandakt i Kyrkan
LOCATION:Tavelsjö kyrka
DESCRIPTION;ENCODING=QUOTED-PRINTABLE:<p>Sommarandakt i kyrkan med Monika Sandström och Laila & Lars Windelius.</
 p><p>Sång,musik, reflektion och bön.</p><p>Fika.</p><p>Välkomna!</p>
CONTACT:Monika Sandström 0705590317
X-EXTRAINFO:Visning av kyrkan, se annons!
DTSTAMP:20260422T103544Z
DTSTART:20190710T130000Z
SEQUENCE:0
TRANSP:OPAQUE
END:VEVENT
END:VCALENDAR