BEGIN:VCALENDAR
VERSION:2.0
PRODID:-//jEvents 2.0 for Joomla//EN
CALSCALE:GREGORIAN
METHOD:PUBLISH
BEGIN:VEVENT
UID:8c0ce50e951063b59d6b200d26a2d2c3
CATEGORIES:Allmänt
SUMMARY:Sommarandakt i Kyrkan
LOCATION:Tavelsjö kyrka
DESCRIPTION;ENCODING=QUOTED-PRINTABLE:\n\nSommarandakt med Josefin Hansdotter Nyström\n\n\nSång, musik, reflektio
 n och bön.\n\n\nFika\n\n\nVälkomna!\n
CONTACT:Monika Sandström 0705590317
X-EXTRAINFO:Visning av kyrkan boka vid önskemål. \nSe annons!
DTSTAMP:20260422T090542Z
DTSTART:20190703T130000Z
SEQUENCE:0
TRANSP:OPAQUE
END:VEVENT
END:VCALENDAR