BEGIN:VCALENDAR
VERSION:2.0
PRODID:-//jEvents 2.0 for Joomla//EN
CALSCALE:GREGORIAN
METHOD:PUBLISH
BEGIN:VEVENT
UID:59c94d7fafcb759629f55390bcddb78e
CATEGORIES:Allmänt
SUMMARY:Kvällsöppet Wärdshuset
LOCATION:Wärdhuset, Tavelsjö Strandvägen 25
DESCRIPTION;ENCODING=QUOTED-PRINTABLE:\n\n\n
CONTACT:070-243 29 40  http://wardshusettavelsjo.se
X-EXTRAINFO:V 27 serverar vi kycklingspett och ugnsrostad potatis som ”dagens” mellan 1
 2-14 ?\nDet finns även räkmackor, räksallad och go’fika \nPå kvällen är det
  årets första musik vid Tavelsjön och då serveras det räksallad o räkmackor
  ? \nPremiärkväll för den uppskattade Musik vid Tavelsjön. \nIngrid Gunnars
 son Perneholm gästar oss och spelar blandad kompott.\nVarmt Välkomna!\n
DTSTAMP:20260422T090542Z
DTSTART:20190703T120000Z
DTEND:20190703T220000Z
SEQUENCE:0
TRANSP:OPAQUE
END:VEVENT
END:VCALENDAR