BEGIN:VCALENDAR
VERSION:2.0
PRODID:-//jEvents 2.0 for Joomla//EN
CALSCALE:GREGORIAN
METHOD:PUBLISH
BEGIN:VEVENT
UID:cdb3ef05ed911bb11d836099663954a9
CATEGORIES:Allmänt
SUMMARY:Retrocafé i byastugan Norrby
LOCATION:Norrby byastuga, Tavelsjö
DESCRIPTION;ENCODING=QUOTED-PRINTABLE:\n\n\n
CONTACT:Desirée och Gunilla
X-EXTRAINFO:Vi har letat fram gamla bakrecept, från 40-50 å 60tal...\n På lördag den 13
 :e juli, har vi Retrocafé i byastugan.\n Kl 12-14. \n Varmt välkomna!\n /De
 sirée och Gunilla
DTSTAMP:20260422T090553Z
DTSTART:20190713T120000Z
DTEND:20190713T140000Z
SEQUENCE:0
TRANSP:OPAQUE
END:VEVENT
END:VCALENDAR