BEGIN:VCALENDAR
VERSION:2.0
PRODID:-//jEvents 2.0 for Joomla//EN
CALSCALE:GREGORIAN
METHOD:PUBLISH
BEGIN:VEVENT
UID:64f80979f23e538d65892e64a3cb7f6d
CATEGORIES:Allmänt
SUMMARY:"Sommarkväll vid Vindelälven" - trivselkväll vid Åliden, tipsrunda fika och samvaro
LOCATION:Grillstugan vid Åliden, väg 363 mitt emellan Rödå och Vindeln
DESCRIPTION;ENCODING=QUOTED-PRINTABLE:<p>Tipsrunda vid grillstugan, Åliden, vid väg 363 mitt emellan Rödå o Vinde
 ln (tydlig snitsel). Egen stig för barnen. Fika med pizzabullar och kaffe k
 okt över öppen eld. Utlottning av vinster på startkorten. Startkort inkl fi
 ka 40 kr/vux, 20 kr/barn. Ta gärna med en campingstol att sitta på</p>
CONTACT:Anita Nilsson 070-28 93 193
DTSTAMP:20260422T091053Z
DTSTART:20190704T183000Z
SEQUENCE:0
TRANSP:OPAQUE
END:VEVENT
END:VCALENDAR