BEGIN:VCALENDAR
VERSION:2.0
PRODID:-//jEvents 2.0 for Joomla//EN
CALSCALE:GREGORIAN
METHOD:PUBLISH
BEGIN:VEVENT
UID:3a4227497a74864b6bfd0be5cd6bd6df
CATEGORIES:Allmänt
SUMMARY:Blåeld midsommaröppet
LOCATION:Strandvägen 25 i Tavelsjö
DESCRIPTION;ENCODING=QUOTED-PRINTABLE:\n\n\n
CONTACT:Katarina 070-308 3896 
X-EXTRAINFO:Nytt från @stubbviken\n Fint formspråk och #närproducerat #övik\n Midsommar
 afton 12-15\n Midsommardagen 12-16\n Söndag 12-16 \nVälkomna\n
DTSTAMP:20260422T101618Z
DTSTART:20190623T120000Z
DTEND:20190623T160000Z
SEQUENCE:0
TRANSP:OPAQUE
END:VEVENT
END:VCALENDAR