BEGIN:VCALENDAR
VERSION:2.0
PRODID:-//jEvents 2.0 for Joomla//EN
CALSCALE:GREGORIAN
METHOD:PUBLISH
BEGIN:VEVENT
UID:20a2db42606bd129dca2c6d40992e8ea
CATEGORIES:Allmänt
SUMMARY:Blåeld midsommaröppet
LOCATION:Strandvägen 25 i Tavelsjö
DESCRIPTION;ENCODING=QUOTED-PRINTABLE:\n\n\n
CONTACT:Katarina 070-308 3896 
X-EXTRAINFO:Nytt från @stubbviken\n Fint formspråk och #närproducerat #övik\n Midsommar
 afton 12-15\n Midsommardagen 12-16\n Söndag 12-16 \nVälkomna\n
DTSTAMP:20260422T101808Z
DTSTART:20190621T120000Z
DTEND:20190621T150000Z
SEQUENCE:0
TRANSP:OPAQUE
END:VEVENT
END:VCALENDAR