BEGIN:VCALENDAR
VERSION:2.0
PRODID:-//jEvents 2.0 for Joomla//EN
CALSCALE:GREGORIAN
METHOD:PUBLISH
BEGIN:VEVENT
UID:7a6c35e7831da31a5949eea36706430f
CATEGORIES:Allmänt
SUMMARY:Gammeldans, Sundlingska gården
LOCATION:Sundlingska gården, Sand, Tavelsjö
DESCRIPTION;ENCODING=QUOTED-PRINTABLE:<p>Platsen är Sundlingska gården, Sand, vid Tavelsjöns strand. Vi dansar ti
 ll levande musik från olika spelmansgillen i Västerbotten. Först har vi en 
 timmes utlärning av en gammeldans per kväll (schottis, polka, snoa, vals, h
 ambo, humppa, masurka, och polska) och sedan två timmar gammeldans.</p><p>U
 tlärningen börjar kl. 19.00 och dansen pågår 20.00 till 22.00.</p><p>Frivil
 ligt inträde.</p><p>23/6  Umebygdens spelmansgille</p><p>Arrangör: Tavelsjö
  hembygdsförening och Sundlingska gården. Umeå kommun och Studieförbundet V
 uxenskolan.</p>
CONTACT:Rolf Appelblad 070-681 35 71
DTSTAMP:20260422T102242Z
DTSTART:20190623T190000Z
DTEND:20190623T220000Z
SEQUENCE:0
RRULE:FREQ=WEEKLY;UNTIL=20190805T000000Z;INTERVAL=1;BYDAY=SU,TH
EXDATE:20190801T190000Z
TRANSP:OPAQUE
END:VEVENT
END:VCALENDAR