BEGIN:VCALENDAR
VERSION:2.0
PRODID:-//jEvents 2.0 for Joomla//EN
CALSCALE:GREGORIAN
METHOD:PUBLISH
BEGIN:VEVENT
UID:192bd51bd59f7ca056c7b1b5321dca5d
CATEGORIES:Allmänt
SUMMARY:Matboa midsommar öppet
LOCATION:Matboa Tavelsjö
DESCRIPTION;ENCODING=QUOTED-PRINTABLE:\n\n\n
X-EXTRAINFO:Öppettider för denna helg lyder: \n Midsommarafton 9-15\n Midsommardagen 12
 -20\n Söndag 12-20\nVarmt (eller regnigt) välkomna in till oss!??\n/Elina o
 ch Wilma med resten av högen\n
DTSTAMP:20260422T101618Z
DTSTART:20190623T120000Z
DTEND:20190623T200000Z
SEQUENCE:0
TRANSP:OPAQUE
END:VEVENT
END:VCALENDAR