BEGIN:VCALENDAR
VERSION:2.0
PRODID:-//jEvents 2.0 for Joomla//EN
CALSCALE:GREGORIAN
METHOD:PUBLISH
BEGIN:VEVENT
UID:2de20167aa692292cb7ca0b325473a03
CATEGORIES:Allmänt
SUMMARY:Matboa midsommar öppet
LOCATION:Matboa Tavelsjö
DESCRIPTION;ENCODING=QUOTED-PRINTABLE:\n\n\n
X-EXTRAINFO:Öppettider för denna helg lyder: \n Midsommarafton 9-15\n Midsommardagen 12
 -20\n Söndag 12-20\nVarmt (eller regnigt) välkomna in till oss!??\n/Elina o
 ch Wilma med resten av högen\n
DTSTAMP:20260422T101650Z
DTSTART:20190622T120000Z
DTEND:20190622T200000Z
SEQUENCE:0
TRANSP:OPAQUE
END:VEVENT
END:VCALENDAR