BEGIN:VCALENDAR
VERSION:2.0
PRODID:-//jEvents 2.0 for Joomla//EN
CALSCALE:GREGORIAN
METHOD:PUBLISH
BEGIN:VEVENT
UID:6ae8281b1f5191e6dee8c0510f178571
CATEGORIES:Allmänt
SUMMARY:Matboa midsommar öppet
LOCATION:Matboa Tavelsjö
DESCRIPTION;ENCODING=QUOTED-PRINTABLE:\n\n\n
X-EXTRAINFO:Öppettider för denna helg lyder: \n Midsommarafton 9-15\n Midsommardagen 12
 -20\n Söndag 12-20\nVarmt (eller regnigt) välkomna in till oss!??\n/Elina o
 ch Wilma med resten av högen\n
DTSTAMP:20260422T101829Z
DTSTART:20190621T090000Z
DTEND:20190621T150000Z
SEQUENCE:0
TRANSP:OPAQUE
END:VEVENT
END:VCALENDAR