BEGIN:VCALENDAR
VERSION:2.0
PRODID:-//jEvents 2.0 for Joomla//EN
CALSCALE:GREGORIAN
METHOD:PUBLISH
BEGIN:VEVENT
UID:b8b04646983c0ac52ab9d186816ea35c
CATEGORIES:Allmänt
SUMMARY:Midsommarfirande på Mickelbo Gård
LOCATION:Mickelbo gård i Mickelsträsk
DESCRIPTION;ENCODING=QUOTED-PRINTABLE:\n\n\n
CONTACT:Linda 070-376 7109
X-EXTRAINFO:Välkommen att fira midsommar hos oss på Mickelbo Gård!\nPeter & Elin (peter
 elinmusic) kommer hit och spelar samt håller i dans runt stången, bind din 
 krans och hjälp till att klä stången, gå vår tipspromenad och delta i femka
 mpslekar.  \nÖppet som vanligt kl.11-16, :\n11.00 Var med och klä stången\n
 11.30 Ponnyridning (20:-)\n11.45 Träffa kamelerna\n12.00 Åk lövad traktorva
 gn\n12.30 Kråkan gästar med godisregn\n13.00 Dans runt midsommarstången \n1
 3.45 Alpackamatning\n14.00 Kråkan gästar med godisregn \n14.15 Ponnyridning
  (20:-)\n15.00 Foderrundan\nSjälvklart bjuder dagen på gos med marsvin, gri
 sar och andra djur också.\nEntré vuxen 120:- och barn 60:-.\nVälkomna!
DTSTAMP:20260422T101607Z
DTSTART:20190621T110000Z
DTEND:20190621T160000Z
SEQUENCE:0
TRANSP:OPAQUE
END:VEVENT
END:VCALENDAR