BEGIN:VCALENDAR
VERSION:2.0
PRODID:-//jEvents 2.0 for Joomla//EN
CALSCALE:GREGORIAN
METHOD:PUBLISH
BEGIN:VEVENT
UID:6c5b83d67b5e5fb0fc8da47bf4a65500
CATEGORIES:Allmänt
SUMMARY:Midsommarfirande vid Hundsjön
LOCATION:Hundsjön Rödåsel
DESCRIPTION;ENCODING=QUOTED-PRINTABLE:\n\n\n
CONTACT:Alf Söderlund 070-6300651
X-EXTRAINFO:Midsommar. Vi försöker avsluta lite tidigare i år och hoppas att ☀️ tittar 
 fram.\n Välkomna ?
DTSTAMP:20260422T101607Z
DTSTART:20190621T110000Z
DTEND:20190621T130000Z
SEQUENCE:0
TRANSP:OPAQUE
END:VEVENT
END:VCALENDAR