BEGIN:VCALENDAR
VERSION:2.0
PRODID:-//jEvents 2.0 for Joomla//EN
CALSCALE:GREGORIAN
METHOD:PUBLISH
BEGIN:VEVENT
UID:20da75c1a915947cba2ffe3ce99aaa27
CATEGORIES:Allmänt
SUMMARY:Midsommarfirande 
LOCATION:Sundlingska gården, Tavelsjö
DESCRIPTION;ENCODING=QUOTED-PRINTABLE:\n\n\n
CONTACT:070-595 3057
X-EXTRAINFO:Ni som bor i eller omkring Tavelsjö, \nta gärna cykel eller en promenera hi
 t på den nya cykelvägen.\nMan kan även komma med båt.\nVälkomna!
DTSTAMP:20260422T101649Z
DTSTART:20190621T120000Z
DTEND:20190621T170000Z
SEQUENCE:0
TRANSP:OPAQUE
END:VEVENT
END:VCALENDAR