BEGIN:VCALENDAR
VERSION:2.0
PRODID:-//jEvents 2.0 for Joomla//EN
CALSCALE:GREGORIAN
METHOD:PUBLISH
BEGIN:VEVENT
UID:a0b84e8f3da96b5134b0f079b0d820cd
CATEGORIES:Allmänt
SUMMARY:Friluftsgudstjänst & gammeldans 
LOCATION:Sundlingska gården, Tavelsjö
DESCRIPTION;ENCODING=QUOTED-PRINTABLE:\n\n\n
CONTACT:Rolf Appelblad 070-681 35 71 
X-EXTRAINFO:Söndag 23 juni kl. 17.30 på Sundlingska gården.\nMoa Beak, Umebygdens spelm
 ansgille. \nFika.\nEfter gudstjänsten blir det gammaldans i logen.\nVarmt v
 älkomna!\n
DTSTAMP:20260422T101747Z
DTSTART:20190623T173000Z
DTEND:20190623T220000Z
SEQUENCE:0
TRANSP:OPAQUE
END:VEVENT
END:VCALENDAR