BEGIN:VCALENDAR
VERSION:2.0
PRODID:-//jEvents 2.0 for Joomla//EN
CALSCALE:GREGORIAN
METHOD:PUBLISH
BEGIN:VEVENT
UID:5a216095c5eaf4c1a45c08dd5a82364b
CATEGORIES:Allmänt
SUMMARY:Tavelsjö golf midsommaröppet
LOCATION:Västra Varmvattnet  87, Tavelsjö.   Koordinater: Latitud 64.08. Longitud 20
 .01
DESCRIPTION;ENCODING=QUOTED-PRINTABLE:\n\n\n
CONTACT:Mikael Nyberg 070-522 0266
X-EXTRAINFO:För 11 000 år sedan blev Västerbotten isfritt efter senaste istiden...För 6
  000 år sedan avskildes Tavelsjön från havet och nu finns här en driving ra
 nge med poängjakt \nNär du är med och tävlar i poängjakten har du chans att
  vinna flygfoton över ditt hus. För att vara med är det bara att komma ned 
 till rangen och försöka slå in bollen i peggen håven eller trärutorna. Vid 
 slutet på månadens vinner spelaren med mest poäng. Du är också välkommen at
 t tävla om du vunnit poängjakten tidigare år! \nVarmt Välkommen till Varmva
 ttnet!\n
DTSTAMP:20260422T101617Z
DTSTART:20190622T080000Z
DTEND:20190622T230000Z
SEQUENCE:0
TRANSP:OPAQUE
END:VEVENT
END:VCALENDAR