BEGIN:VCALENDAR
VERSION:2.0
PRODID:-//jEvents 2.0 for Joomla//EN
CALSCALE:GREGORIAN
METHOD:PUBLISH
BEGIN:VEVENT
UID:0863a60bdcf334265572ad6ddf42d89e
CATEGORIES:Allmänt
SUMMARY:Skoj med boll!
LOCATION:Tavelsjö, grönområdet bredvid lekparken på näset 
DESCRIPTION;ENCODING=QUOTED-PRINTABLE:\n\n\n
CONTACT:Anmäl er till Emilie Qwarforth: 073 - 831 34 61
X-EXTRAINFO:Välkomnar alla 2013-barn till skoj med boll!\n Startar nu på onsdag 19/6 kl
  18.00, på grönområdet bredvid lekparken på näset :) 
DTSTAMP:20260422T101829Z
DTSTART:20190619T180000Z
DTEND:20190619T200000Z
SEQUENCE:0
TRANSP:OPAQUE
END:VEVENT
END:VCALENDAR